Workbook
Name Segment_BUT: #N/A
Name Segment_BUT1: #N/A
Name Segment_Localisation: #N/A
Name Segment_Localisation1: #N/A

Sheet Cartographie

Sheet Synthèse globale
B2: Indicateurs crawl IUT/BUT — Synthèse globale — GDR Robotique
B3: Généré le 11/05/2026 — 134 départements — 4 BUT
B15: BUT | C15: Etablissement | D15: Localisation | E15: URL | F15: Score global | G15: Source | H15: Analyse qualitative | I15: Niveau (1-4) | J15: Commentaire
B16: GEII | C16: iut-de-troyes | D16: Troyes | E16: https://sites.google.com/view/geiiiutdetroyes/la-formation | F16: 10.3486 | G16: Crawl automatique | H16: =IFERROR(INDEX(GEII!$Q$6:$Q$54,MATCH(C16,GEII!$B$6:$B$54,0)),"") -> Oui | I16: =IFERROR(INDEX(GEII!$R$6:$R$54,MATCH(C16,GEII!$B$6:$B$54,0)),"") -> 1 | J16: =IFERROR(INDEX(GEII!$S$6:$S$54,MATCH(C16,GEII!$B$6:$B$54,0)),"") -> AII
B17: GEII | C17: iut-daix-marseille | D17: Marseille | E17: https://iut.univ-amu.fr/fr/formations/bachelor-universitaire-de-technologie/but-genie-electrique-informatique-industrielle/but-geii-marseille | F17: 7.5703 | G17: Crawl automatique | H17: =IFERROR(INDEX(GEII!$Q$6:$Q$54,MATCH(C17,GEII!$B$6:$B$54,0)),"") -> Oui | I17: =IFERROR(INDEX(GEII!$R$6:$R$54,MATCH(C17,GEII!$B$6:$B$54,0)),"") -> 1 | J17: =IFERROR(INDEX(GEII!$S$6:$S$54,MATCH(C17,GEII!$B$6:$B$54,0)),"") -> AII & Présence d'un club de robotique & concours robotiques
B18: GEII | C18: iut-littoral | D18: Calais | E18: https://www.iut-littoral.fr/department/but-geii-calais-genie-electrique-et-informatique-industrielle/ | F18: 4.9505 | G18: Crawl automatique | H18: =IFERROR(INDEX(GEII!$Q$6:$Q$54,MATCH(C18,GEII!$B$6:$B$54,0)),"") -> Oui | I18: =IFERROR(INDEX(GEII!$R$6:$R$54,MATCH(C18,GEII!$B$6:$B$54,0)),"") -> 1 | J18: =IFERROR(INDEX(GEII!$S$6:$S$54,MATCH(C18,GEII!$B$6:$B$54,0)),"") -> AII
B19: GEII | C19: iut-de-bordeaux | D19: Bordeaux | E19: https://www.iut.u-bordeaux.fr/geii/ | F19: 4.7906 | G19: Crawl automatique | H19: =IFERROR(INDEX(GEII!$Q$6:$Q$54,MATCH(C19,GEII!$B$6:$B$54,0)),"") -> Oui | I19: =IFERROR(INDEX(GEII!$R$6:$R$54,MATCH(C19,GEII!$B$6:$B$54,0)),"") -> 1 | J19: =IFERROR(INDEX(GEII!$S$6:$S$54,MATCH(C19,GEII!$B$6:$B$54,0)),"") -> AII & DU robotique autonome & concours robotiques
B20: GEII | C20: iut-de-lille | D20: Lille | E20: https://www.iuta-geii.univ-lille.fr | F20: 4.065 | G20: Crawl automatique | H20: =IFERROR(INDEX(GEII!$Q$6:$Q$54,MATCH(C20,GEII!$B$6:$B$54,0)),"") -> Oui | I20: =IFERROR(INDEX(GEII!$R$6:$R$54,MATCH(C20,GEII!$B$6:$B$54,0)),"") -> 1 | J20: =IFERROR(INDEX(GEII!$S$6:$S$54,MATCH(C20,GEII!$B$6:$B$54,0)),"") -> AII
B21: GEII | C21: iut-de-rouen | D21: Rouen | E21: https://iutrouen.univ-rouen.fr/b-u-t-genie-electrique-et-informatique-industrielle-681743.kjsp | F21: 3.7232 | G21: Crawl automatique | H21: =IFERROR(INDEX(GEII!$Q$6:$Q$54,MATCH(C21,GEII!$B$6:$B$54,0)),"") -> Oui | I21: =IFERROR(INDEX(GEII!$R$6:$R$54,MATCH(C21,GEII!$B$6:$B$54,0)),"") -> 1 | J21: =IFERROR(INDEX(GEII!$S$6:$S$54,MATCH(C21,GEII!$B$6:$B$54,0)),"") -> AII & concours robotiques
B22: GEII | C22: iut-de-saint-etienne | D22: Saint-Étienne | E22: https://www.univ-st-etienne.fr/fr/formation/b-u-t-BU/b-u-t-BU/b-u-t-genie-electrique-et-informatique-industrielle-geii-2_12_03_0002_FR.html | F22: 3.6839 | G22: Crawl automatique | H22: =IFERROR(INDEX(GEII!$Q$6:$Q$54,MATCH(C22,GEII!$B$6:$B$54,0)),"") -> Oui | I22: =IFERROR(INDEX(GEII!$R$6:$R$54,MATCH(C22,GEII!$B$6:$B$54,0)),"") -> 1 | J22: =IFERROR(INDEX(GEII!$S$6:$S$54,MATCH(C22,GEII!$B$6:$B$54,0)),"") -> AII
B23: GEII | C23: iut-de-villetaneuse | D23: Villetaneuse | F23: 3.54 | G23: Manuel (PDF + page web) | H23: =IFERROR(INDEX(GEII!$Q$6:$Q$54,MATCH(C23,GEII!$B$6:$B$54,0)),"") -> Oui | I23: =IFERROR(INDEX(GEII!$R$6:$R$54,MATCH(C23,GEII!$B$6:$B$54,0)),"") -> 1 | J23: =IFERROR(INDEX(GEII!$S$6:$S$54,MATCH(C23,GEII!$B$6:$B$54,0)),"") -> AII
B24: GEII | C24: iut-aix-marseille | D24: Marseille | E24: https://iut.univ-amu.fr/fr/formations/bachelor-universitaire-de-technologie/but-genie-electrique-informatique-industrielle | F24: 2.4876 | G24: Crawl automatique | H24: =IFERROR(INDEX(GEII!$Q$6:$Q$54,MATCH(C24,GEII!$B$6:$B$54,0)),"") -> Oui | I24: =IFERROR(INDEX(GEII!$R$6:$R$54,MATCH(C24,GEII!$B$6:$B$54,0)),"") -> 1 | J24: =IFERROR(INDEX(GEII!$S$6:$S$54,MATCH(C24,GEII!$B$6:$B$54,0)),"") -> AII
B25: GEII | C25: iut-de-rennes | D25: Rennes | E25: https://iut-rennes.univ-rennes.fr/geii | F25: 2.3206 | G25: Crawl automatique | H25: =IFERROR(INDEX(GEII!$Q$6:$Q$54,MATCH(C25,GEII!$B$6:$B$54,0)),"") -> Oui | I25: =IFERROR(INDEX(GEII!$R$6:$R$54,MATCH(C25,GEII!$B$6:$B$54,0)),"") -> 1 | J25: =IFERROR(INDEX(GEII!$S$6:$S$54,MATCH(C25,GEII!$B$6:$B$54,0)),"") -> AII
B26: GEII | C26: iut-du-creusot | D26: Le Creusot | E26: https://iutlecreusot.ube.fr/but-genie-electrique-et-informatique-industrielle | F26: 2.1569 | G26: Crawl automatique | H26: =IFERROR(INDEX(GEII!$Q$6:$Q$54,MATCH(C26,GEII!$B$6:$B$54,0)),"") -> Oui | I26: =IFERROR(INDEX(GEII!$R$6:$R$54,MATCH(C26,GEII!$B$6:$B$54,0)),"") -> 1 | J26: =IFERROR(INDEX(GEII!$S$6:$S$54,MATCH(C26,GEII!$B$6:$B$54,0)),"") -> AII & concours robotiques
B27: GEII | C27: iut-de-velizy | D27: Vélizy-Villacoublay | E27: https://www.iut-velizy-rambouillet.uvsq.fr/geii-genie-electrique-et-informatique-industrielle | F27: 2.1417 | G27: Crawl automatique | H27: =IFERROR(INDEX(GEII!$Q$6:$Q$54,MATCH(C27,GEII!$B$6:$B$54,0)),"") -> Oui | I27: =IFERROR(INDEX(GEII!$R$6:$R$54,MATCH(C27,GEII!$B$6:$B$54,0)),"") -> 1 | J27: =IFERROR(INDEX(GEII!$S$6:$S$54,MATCH(C27,GEII!$B$6:$B$54,0)),"") -> AII & concours robotiques
B28: GEII | C28: iut-1-grenoble | D28: Grenoble | E28: https://iut1.univ-grenoble-alpes.fr/departements-d-enseignement/genie-electrique-et-informatique-industrielle-geii--1536036.kjsp | F28: 2.1157 | G28: Crawl automatique | H28: =IFERROR(INDEX(GEII!$Q$6:$Q$54,MATCH(C28,GEII!$B$6:$B$54,0)),"") -> Oui | I28: =IFERROR(INDEX(GEII!$R$6:$R$54,MATCH(C28,GEII!$B$6:$B$54,0)),"") -> 1 | J28: =IFERROR(INDEX(GEII!$S$6:$S$54,MATCH(C28,GEII!$B$6:$B$54,0)),"") -> AII
B29: GEII | C29: iut-de-valenciennes | D29: Valenciennes | E29: https://www.uphf.fr/iut/presentation/departement-formations/genie-electrique-informatique-industrielle | F29: 1.9654 | G29: Crawl automatique | H29: =IFERROR(INDEX(GEII!$Q$6:$Q$54,MATCH(C29,GEII!$B$6:$B$54,0)),"") -> Oui | I29: =IFERROR(INDEX(GEII!$R$6:$R$54,MATCH(C29,GEII!$B$6:$B$54,0)),"") -> 1 | J29: =IFERROR(INDEX(GEII!$S$6:$S$54,MATCH(C29,GEII!$B$6:$B$54,0)),"") -> AII
B30: GEII | C30: iut-de-mulhouse | D30: Mulhouse | E30: https://www.iutmulhouse.uha.fr/b-u-t-genie-electrique-et-informatique-industrielle-geii/ | F30: 1.8488 | G30: Crawl automatique | H30: =IFERROR(INDEX(GEII!$Q$6:$Q$54,MATCH(C30,GEII!$B$6:$B$54,0)),"") -> Oui | I30: =IFERROR(INDEX(GEII!$R$6:$R$54,MATCH(C30,GEII!$B$6:$B$54,0)),"") -> 1 | J30: =IFERROR(INDEX(GEII!$S$6:$S$54,MATCH(C30,GEII!$B$6:$B$54,0)),"") -> AII
B31: GEII | C31: iut-de-creteil-vitry | D31: Vitry-sur-Seine | E31: https://iut.u-pec.fr/departements/genie-elect-et-info-indust | F31: 1.8315 | G31: Crawl automatique | H31: =IFERROR(INDEX(GEII!$Q$6:$Q$54,MATCH(C31,GEII!$B$6:$B$54,0)),"") -> Oui | I31: =IFERROR(INDEX(GEII!$R$6:$R$54,MATCH(C31,GEII!$B$6:$B$54,0)),"") -> 2 | J31: =IFERROR(INDEX(GEII!$S$6:$S$54,MATCH(C31,GEII!$B$6:$B$54,0)),"") -> EME & ESE
B32: GEII | C32: iut-poitiers | D32: Poitiers | E32: https://iutp.univ-poitiers.fr/geii/ | F32: 1.7652 | G32: Crawl automatique | H32: =IFERROR(INDEX(GEII!$Q$6:$Q$54,MATCH(C32,GEII!$B$6:$B$54,0)),"") -> Oui | I32: =IFERROR(INDEX(GEII!$R$6:$R$54,MATCH(C32,GEII!$B$6:$B$54,0)),"") -> 1 | J32: =IFERROR(INDEX(GEII!$S$6:$S$54,MATCH(C32,GEII!$B$6:$B$54,0)),"") -> AII
B33: GEII | C33: iut-de-ville-davray | D33: Ville-d'Avray | E33: https://cva-geii.parisnanterre.fr/ | F33: 1.7422 | G33: Crawl automatique | H33: =IFERROR(INDEX(GEII!$Q$6:$Q$54,MATCH(C33,GEII!$B$6:$B$54,0)),"") -> Oui | I33: =IFERROR(INDEX(GEII!$R$6:$R$54,MATCH(C33,GEII!$B$6:$B$54,0)),"") -> 1 | J33: =IFERROR(INDEX(GEII!$S$6:$S$54,MATCH(C33,GEII!$B$6:$B$54,0)),"") -> AII & concours robotiques
B34: GEII | C34: iut-de-haguenau | D34: Haguenau | E34: https://iuthaguenau.unistra.fr/formations/but/geii/ | F34: 1.7152 | G34: Crawl automatique | H34: =IFERROR(INDEX(GEII!$Q$6:$Q$54,MATCH(C34,GEII!$B$6:$B$54,0)),"") -> Oui | I34: =IFERROR(INDEX(GEII!$R$6:$R$54,MATCH(C34,GEII!$B$6:$B$54,0)),"") -> 1 | J34: =IFERROR(INDEX(GEII!$S$6:$S$54,MATCH(C34,GEII!$B$6:$B$54,0)),"") -> AII
B35: GEII | C35: iut-clermont-auvergne | D35: Clermont-Ferrand | E35: https://iut.uca.fr/formations/but-genie-electrique-et-informatique-industrielle | F35: 1.6932 | G35: Crawl automatique | H35: =IFERROR(INDEX(GEII!$Q$6:$Q$54,MATCH(C35,GEII!$B$6:$B$54,0)),"") -> Oui | I35: =IFERROR(INDEX(GEII!$R$6:$R$54,MATCH(C35,GEII!$B$6:$B$54,0)),"") -> 1 | J35: =IFERROR(INDEX(GEII!$S$6:$S$54,MATCH(C35,GEII!$B$6:$B$54,0)),"") -> AII
... B47: GEII | C47: iut-angers-cholet | D47: Cholet | E47: https://www.univ-angers.fr/fr/acces-directs/facultes-et-instituts/iut/departements/geii.html | F47: 1.0373 | G47: Crawl automatique | H47: =IFERROR(INDEX(GEII!$Q$6:$Q$54,MATCH(C47,GEII!$B$6:$B$54,0)),"") -> Oui | I47: =IFERROR(INDEX(GEII!$R$6:$R$54,MATCH(C47,GEII!$B$6:$B$54,0)),"") -> 1 | J47: =IFERROR(INDEX(GEII!$S$6:$S$54,MATCH(C47,GEII!$B$6:$B$54,0)),"") -> AII & concours robotiques
B48: GEII | C48: iut-de-kourou | D48: Kourou | F48: 0.95 | G48: Manuel (page web) | H48: =IFERROR(INDEX(GEII!$Q$6:$Q$54,MATCH(C48,GEII!$B$6:$B$54,0)),"") -> Oui | I48: =IFERROR(INDEX(GEII!$R$6:$R$54,MATCH(C48,GEII!$B$6:$B$54,0)),"") -> 2 | J48: =IFERROR(INDEX(GEII!$S$6:$S$54,MATCH(C48,GEII!$B$6:$B$54,0)),"") -> EME
B49: GEII | C49: iut-de-bethune | D49: Béthune | E49: https://iut-bethune.univ-artois.fr/formation/geii-automatisme-et-informatique-industrielle/ | F49: 0.9169 | G49: Crawl automatique | H49: =IFERROR(INDEX(GEII!$Q$6:$Q$54,MATCH(C49,GEII!$B$6:$B$54,0)),"") -> Oui | I49: =IFERROR(INDEX(GEII!$R$6:$R$54,MATCH(C49,GEII!$B$6:$B$54,0)),"") -> 1 | J49: =IFERROR(INDEX(GEII!$S$6:$S$54,MATCH(C49,GEII!$B$6:$B$54,0)),"") -> AII
B50: GEII | C50: iut-de-senartfontainebleau | D50: Sénart | E50: https://www.iutsf.u-pec.fr/nos-formations/but-genie-electrique-et-informatique-industrielle-geii | F50: 0.8471 | G50: Crawl automatique | H50: =IFERROR(INDEX(GEII!$Q$6:$Q$54,MATCH(C50,GEII!$B$6:$B$54,0)),"") -> Oui | I50: =IFERROR(INDEX(GEII!$R$6:$R$54,MATCH(C50,GEII!$B$6:$B$54,0)),"") -> 1 | J50: =IFERROR(INDEX(GEII!$S$6:$S$54,MATCH(C50,GEII!$B$6:$B$54,0)),"") -> AII
B51: GEII | C51: iut-du-limousin | D51: Limoges | E51: https://www.iut.unilim.fr/les-formations/but/genie-electrique-et-informatique-industrielle/ | F51: 0.7954 | G51: Crawl automatique | H51: =IFERROR(INDEX(GEII!$Q$6:$Q$54,MATCH(C51,GEII!$B$6:$B$54,0)),"") -> Oui | I51: =IFERROR(INDEX(GEII!$R$6:$R$54,MATCH(C51,GEII!$B$6:$B$54,0)),"") -> 2 | J51: =IFERROR(INDEX(GEII!$S$6:$S$54,MATCH(C51,GEII!$B$6:$B$54,0)),"") -> EME & ESE & Concours robotiques
B52: GEII | C52: iut-de-cergy-pontoise | D52: Pontoise | E52: https://cyiut.cyu.fr/formations/le-bachelor-universitaire-de-technologie/b-u-t-genie-electrique-et-informatique-industrielle | F52: 0.7182 | G52: Crawl automatique | H52: =IFERROR(INDEX(GEII!$Q$6:$Q$54,MATCH(C52,GEII!$B$6:$B$54,0)),"") -> Oui | I52: =IFERROR(INDEX(GEII!$R$6:$R$54,MATCH(C52,GEII!$B$6:$B$54,0)),"") -> 1 | J52: =IFERROR(INDEX(GEII!$S$6:$S$54,MATCH(C52,GEII!$B$6:$B$54,0)),"") -> AII
B53: GEII | C53: iut-nantes | D53: Nantes | E53: https://iutnantes.univ-nantes.fr/fr/formations/but-geii | F53: 0.5248 | G53: Crawl automatique | H53: =IFERROR(INDEX(GEII!$Q$6:$Q$54,MATCH(C53,GEII!$B$6:$B$54,0)),"") -> Oui | I53: =IFERROR(INDEX(GEII!$R$6:$R$54,MATCH(C53,GEII!$B$6:$B$54,0)),"") -> 1 | J53: =IFERROR(INDEX(GEII!$S$6:$S$54,MATCH(C53,GEII!$B$6:$B$54,0)),"") -> AII
B54: GEII | C54: iut-du-havre | D54: Le Havre | E54: https://www.univ-lehavre.fr/fr/formations/b-u-t-genie-electrique-informatique-industrielle-geii/ | F54: 0.405 | G54: Crawl automatique | H54: =IFERROR(INDEX(GEII!$Q$6:$Q$54,MATCH(C54,GEII!$B$6:$B$54,0)),"") -> Oui | I54: =IFERROR(INDEX(GEII!$R$6:$R$54,MATCH(C54,GEII!$B$6:$B$54,0)),"") -> 1 | J54: =IFERROR(INDEX(GEII!$S$6:$S$54,MATCH(C54,GEII!$B$6:$B$54,0)),"") -> AII
B55: GEII | C55: iut-de-montpellier-sete | D55: Sète | E55: https://iutgeii.umontpellier.fr | F55: 0.394 | G55: Crawl automatique | H55: =IFERROR(INDEX(GEII!$Q$6:$Q$54,MATCH(C55,GEII!$B$6:$B$54,0)),"") -> Oui | I55: =IFERROR(INDEX(GEII!$R$6:$R$54,MATCH(C55,GEII!$B$6:$B$54,0)),"") -> 1 | J55: =IFERROR(INDEX(GEII!$S$6:$S$54,MATCH(C55,GEII!$B$6:$B$54,0)),"") -> AII
B56: GEII | C56: iut-lyon1 | D56: Lyon | E56: https://iut.univ-lyon1.fr/formation/but/but-genie-electrique-et-informatique-industrielle | F56: 0.3885 | G56: Crawl automatique | H56: =IFERROR(INDEX(GEII!$Q$6:$Q$54,MATCH(C56,GEII!$B$6:$B$54,0)),"") -> Oui | I56: =IFERROR(INDEX(GEII!$R$6:$R$54,MATCH(C56,GEII!$B$6:$B$54,0)),"") -> 1 | J56: =IFERROR(INDEX(GEII!$S$6:$S$54,MATCH(C56,GEII!$B$6:$B$54,0)),"") -> AII & concours robotiques
B57: GEII | C57: iut-de-nancy-brabois | D57: Nancy | E57: https://iut-nancy-brabois.univ-lorraine.fr/departement-geii-genie-electrique-et-informatique-industrielle/ | F57: 0.2744 | G57: Crawl automatique | H57: =IFERROR(INDEX(GEII!$Q$6:$Q$54,MATCH(C57,GEII!$B$6:$B$54,0)),"") -> Oui | I57: =IFERROR(INDEX(GEII!$R$6:$R$54,MATCH(C57,GEII!$B$6:$B$54,0)),"") -> 1 | J57: =IFERROR(INDEX(GEII!$S$6:$S$54,MATCH(C57,GEII!$B$6:$B$54,0)),"") -> AII & concours robotiques
B58: GEII | C58: iut-de-saint-die | D58: Saint-Dié-des-Vosges | E58: https://iut-nancy-brabois.univ-lorraine.fr/departement-geii-genie-electrique-et-informatique-industrielle/ | F58: 0.2744 | G58: Crawl automatique | H58: =IFERROR(INDEX(GEII!$Q$6:$Q$54,MATCH(C58,GEII!$B$6:$B$54,0)),"") -> Oui | I58: =IFERROR(INDEX(GEII!$R$6:$R$54,MATCH(C58,GEII!$B$6:$B$54,0)),"") -> 1 | J58: =IFERROR(INDEX(GEII!$S$6:$S$54,MATCH(C58,GEII!$B$6:$B$54,0)),"") -> AII
B59: GEII | C59: iut-devry-val-dessonne | D59: Évry, Essonne | E59: https://www.iut-evry.fr/nos-formations/but/but-genie-electrique-et-informatique-industrielle/ | F59: 0.1979 | G59: Crawl automatique | H59: =IFERROR(INDEX(GEII!$Q$6:$Q$54,MATCH(C59,GEII!$B$6:$B$54,0)),"") -> Oui | I59: =IFERROR(INDEX(GEII!$R$6:$R$54,MATCH(C59,GEII!$B$6:$B$54,0)),"") -> 1 | J59: =IFERROR(INDEX(GEII!$S$6:$S$54,MATCH(C59,GEII!$B$6:$B$54,0)),"") -> AII
B60: GEII | C60: iut-de-chartres | D60: Chartres | E60: https://www.univ-orleans.fr/fr/iut-indre/formations/geii | F60: 0 | G60: Crawl automatique | H60: =IFERROR(INDEX(GEII!$Q$6:$Q$54,MATCH(C60,GEII!$B$6:$B$54,0)),"") -> Oui | I60: =IFERROR(INDEX(GEII!$R$6:$R$54,MATCH(C60,GEII!$B$6:$B$54,0)),"") -> 1 | J60: =IFERROR(INDEX(GEII!$S$6:$S$54,MATCH(C60,GEII!$B$6:$B$54,0)),"") -> ESE cursus robotique mobile et IA & ESE
... B64: GEII | C64: iut-nice-cote-dazur | D64: Nice | E64: https://iut.univ-cotedazur.fr/departements-et-formations/genie-electrique-et-informatique-industrielle | F64: 0 | G64: Crawl automatique | H64: =IFERROR(INDEX(GEII!$Q$6:$Q$54,MATCH(C64,GEII!$B$6:$B$54,0)),"") -> Oui | I64: =IFERROR(INDEX(GEII!$R$6:$R$54,MATCH(C64,GEII!$B$6:$B$54,0)),"") -> 1 | J64: =IFERROR(INDEX(GEII!$S$6:$S$54,MATCH(C64,GEII!$B$6:$B$54,0)),"") -> AII
B65: GIM | C65: iut-de-bayonne | D65: Bayonne | E65: https://butgimanglet.wordpress.com | F65: 1.7668 | G65: Crawl automatique | H65: =IFERROR(INDEX(GIM!$Q$6:$Q$28,MATCH(C65,GIM!$B$6:$B$28,0)),"") -> Oui | I65: =IFERROR(INDEX(GIM!$R$6:$R$28,MATCH(C65,GIM!$B$6:$B$28,0)),"") -> 2 | J65: =IFERROR(INDEX(GIM!$S$6:$S$28,MATCH(C65,GIM!$B$6:$B$28,0)),"") -> ISP (TP)
B66: GIM | C66: iut-de-chalons | D66: Châlons-en-Champagne | F66: 1.32 | G66: Manuel (page web + PDF + programme) | H66: =IFERROR(INDEX(GIM!$Q$6:$Q$28,MATCH(C66,GIM!$B$6:$B$28,0)),"") -> Non | I66: =IFERROR(INDEX(GIM!$R$6:$R$28,MATCH(C66,GIM!$B$6:$B$28,0)),"") -> 4 | J66: =IFERROR(INDEX(GIM!$S$6:$S$28,MATCH(C66,GIM!$B$6:$B$28,0)),"") -> Pas de mention
B67: GIM | C67: iut-clermont-auvergne | D67: Clermont-Ferrand | E67: https://iut.uca.fr/formations/but-genie-industriel-et-maintenance | F67: 1.2074 | G67: Crawl automatique | H67: =IFERROR(INDEX(GIM!$Q$6:$Q$28,MATCH(C67,GIM!$B$6:$B$28,0)),"") -> Oui | I67: =IFERROR(INDEX(GIM!$R$6:$R$28,MATCH(C67,GIM!$B$6:$B$28,0)),"") -> 2 | J67: =IFERROR(INDEX(GIM!$S$6:$S$28,MATCH(C67,GIM!$B$6:$B$28,0)),"") -> ISP (TP)
B68: GIM | C68: iut-de-chartres | D68: Chartres | E68: https://www.univ-orleans.fr/fr/iut-chartres/formation/genie-industriel-et-maintenance | F68: 0.8394 | G68: Crawl automatique | H68: =IFERROR(INDEX(GIM!$Q$6:$Q$28,MATCH(C68,GIM!$B$6:$B$28,0)),"") -> Oui | I68: =IFERROR(INDEX(GIM!$R$6:$R$28,MATCH(C68,GIM!$B$6:$B$28,0)),"") -> 1 | J68: =IFERROR(INDEX(GIM!$S$6:$S$28,MATCH(C68,GIM!$B$6:$B$28,0)),"") -> ISP (TP)
B69: GIM | C69: iut-de-lorient-pontivy | D69: Lorient | E69: https://www-iutlorient.univ-ubs.fr/fr/formations/formations/bachelor-universitaire-de-technologie-b-u-t-CB/sciences-technologies-sante-STS/but-genie-industriel-et-maintenance-gim-2TGI00_213.html | F69: 0.6306 | G69: Crawl automatique | H69: =IFERROR(INDEX(GIM!$Q$6:$Q$28,MATCH(C69,GIM!$B$6:$B$28,0)),"") -> Non | I69: =IFERROR(INDEX(GIM!$R$6:$R$28,MATCH(C69,GIM!$B$6:$B$28,0)),"") -> 4 | J69: =IFERROR(INDEX(GIM!$S$6:$S$28,MATCH(C69,GIM!$B$6:$B$28,0)),"") -> Pas de mention
B70: GIM | C70: iut-de-roanne | D70: Roanne | E70: https://iut-roanne.univ-st-etienne.fr/fr/formations/b-u-t-BU/b-u-t-BU/but-genie-industriel-et-maintenance-gim-2_13_03_0001_FR.html | F70: 0.6057 | G70: Crawl automatique | H70: =IFERROR(INDEX(GIM!$Q$6:$Q$28,MATCH(C70,GIM!$B$6:$B$28,0)),"") -> Oui | I70: =IFERROR(INDEX(GIM!$R$6:$R$28,MATCH(C70,GIM!$B$6:$B$28,0)),"") -> 2 | J70: =IFERROR(INDEX(GIM!$S$6:$S$28,MATCH(C70,GIM!$B$6:$B$28,0)),"") -> ISP (TP)
B71: GIM | C71: iut-de-mantes-en-yvelines | D71: Mantes-la-Jolie | E71: https://www.iut-mantes.uvsq.fr/gim | F71: 0.5194 | G71: Crawl automatique | H71: =IFERROR(INDEX(GIM!$Q$6:$Q$28,MATCH(C71,GIM!$B$6:$B$28,0)),"") -> Oui | I71: =IFERROR(INDEX(GIM!$R$6:$R$28,MATCH(C71,GIM!$B$6:$B$28,0)),"") -> 2 | J71: =IFERROR(INDEX(GIM!$S$6:$S$28,MATCH(C71,GIM!$B$6:$B$28,0)),"") -> ISP (TP)
B72: GIM | C72: iut-du-littoral-de-longuenesse | D72: Saint-Omer | E72: https://www.univ-littoral.fr/formation/offre-de-formation/but/but-genie-industriel-maintenance/ | F72: 0.4958 | G72: Crawl automatique | H72: =IFERROR(INDEX(GIM!$Q$6:$Q$28,MATCH(C72,GIM!$B$6:$B$28,0)),"") -> Non | I72: =IFERROR(INDEX(GIM!$R$6:$R$28,MATCH(C72,GIM!$B$6:$B$28,0)),"") -> 4 | J72: =IFERROR(INDEX(GIM!$S$6:$S$28,MATCH(C72,GIM!$B$6:$B$28,0)),"") -> Pas de mention
B73: GIM | C73: iut-grand-ouest-normandie | D73: Cherbourg-Octeville | E73: https://uniform.unicaen.fr/catalogue/formation/but/6771-bachelor-universitaire-de-technologie-genie-industriel-et-maintenance?s=IUT&e=FI | F73: 0.3598 | G73: Crawl automatique | H73: =IFERROR(INDEX(GIM!$Q$6:$Q$28,MATCH(C73,GIM!$B$6:$B$28,0)),"") -> Non | I73: =IFERROR(INDEX(GIM!$R$6:$R$28,MATCH(C73,GIM!$B$6:$B$28,0)),"") -> 4 | J73: =IFERROR(INDEX(GIM!$S$6:$S$28,MATCH(C73,GIM!$B$6:$B$28,0)),"") -> Pas de mention
B74: GIM | C74: iut-de-tremblay-en-france | D74: Tremblay-en-France | E74: https://www.iutt.univ-paris8.fr/le-but-genie-industriel-et-maintenance | F74: 0.2919 | G74: Crawl automatique | H74: =IFERROR(INDEX(GIM!$Q$6:$Q$28,MATCH(C74,GIM!$B$6:$B$28,0)),"") -> Non | I74: =IFERROR(INDEX(GIM!$R$6:$R$28,MATCH(C74,GIM!$B$6:$B$28,0)),"") -> 4 | J74: =IFERROR(INDEX(GIM!$S$6:$S$28,MATCH(C74,GIM!$B$6:$B$28,0)),"") -> Pas de mention
B75: GIM | C75: iut-epinal | D75: Épinal | E75: https://iut-epinal.univ-lorraine.fr/but-genie-industriel-et-maintenance-gim/ | F75: 0.235 | G75: Crawl automatique | H75: =IFERROR(INDEX(GIM!$Q$6:$Q$28,MATCH(C75,GIM!$B$6:$B$28,0)),"") -> Non | I75: =IFERROR(INDEX(GIM!$R$6:$R$28,MATCH(C75,GIM!$B$6:$B$28,0)),"") -> 4 | J75: =IFERROR(INDEX(GIM!$S$6:$S$28,MATCH(C75,GIM!$B$6:$B$28,0)),"") -> Pas de mention
B76: GIM | C76: iut-lyon-1 | D76: Lyon | E76: https://iut.univ-lyon1.fr/formation/but/but-genie-industriel-et-maintenance | F76: 0.1899 | G76: Crawl automatique | H76: =IFERROR(INDEX(GIM!$Q$6:$Q$28,MATCH(C76,GIM!$B$6:$B$28,0)),"") -> Non | I76: =IFERROR(INDEX(GIM!$R$6:$R$28,MATCH(C76,GIM!$B$6:$B$28,0)),"") -> 4 | J76: =IFERROR(INDEX(GIM!$S$6:$S$28,MATCH(C76,GIM!$B$6:$B$28,0)),"") -> Pas de mention
B77: GIM | C77: iut-du-limousin | D77: Tulle | E77: https://www.iut.unilim.fr/les-formations/but/genie-industriel-et-maintenance/ | F77: 0.1231 | G77: Crawl automatique | H77: =IFERROR(INDEX(GIM!$Q$6:$Q$28,MATCH(C77,GIM!$B$6:$B$28,0)),"") -> Non | I77: =IFERROR(INDEX(GIM!$R$6:$R$28,MATCH(C77,GIM!$B$6:$B$28,0)),"") -> 4 | J77: =IFERROR(INDEX(GIM!$S$6:$S$28,MATCH(C77,GIM!$B$6:$B$28,0)),"") -> Pas de mention
B78: GIM | C78: iut-thionville-yutz | D78: Thionville | E78: https://iut-thionville-yutz.univ-lorraine.fr/formation/but-genie-industriel-et-maintenance/ | F78: 0.1107 | G78: Crawl automatique | H78: =IFERROR(INDEX(GIM!$Q$6:$Q$28,MATCH(C78,GIM!$B$6:$B$28,0)),"") -> Non | I78: =IFERROR(INDEX(GIM!$R$6:$R$28,MATCH(C78,GIM!$B$6:$B$28,0)),"") -> 4 | J78: =IFERROR(INDEX(GIM!$S$6:$S$28,MATCH(C78,GIM!$B$6:$B$28,0)),"") -> Pas de mention
... B87: GIM | C87: iut-louis-pasteur | D87: Strasbourg | E87: https://iut-alsace.iut.fr/bachelor-universitaire-de-technologie/genie-industriel-et-maintenance/ | F87: 0 | G87: Crawl automatique | H87: =IFERROR(INDEX(GIM!$Q$6:$Q$28,MATCH(C87,GIM!$B$6:$B$28,0)),"") -> Non | I87: =IFERROR(INDEX(GIM!$R$6:$R$28,MATCH(C87,GIM!$B$6:$B$28,0)),"") -> 4 | J87: =IFERROR(INDEX(GIM!$S$6:$S$28,MATCH(C87,GIM!$B$6:$B$28,0)),"") -> Pas de mention
B88: GMP | C88: iut-de-metz | D88: Metz | E88: https://iut-metz.univ-lorraine.fr/departement-gmp | F88: 4.6173 | G88: Crawl automatique | H88: =IFERROR(INDEX(GMP!$Q$6:$Q$46,MATCH(C88,GMP!$B$6:$B$46,0)),"") -> Oui | I88: =IFERROR(INDEX(GMP!$R$6:$R$46,MATCH(C88,GMP!$B$6:$B$46,0)),"") -> 2 | J88: =IFERROR(INDEX(GMP!$S$6:$S$46,MATCH(C88,GMP!$B$6:$B$46,0)),"") -> TP
B89: GMP | C89: iut-de-ville-davray | D89: Ville-d'Avray | E89: https://cva-gmp.parisnanterre.fr/ | F89: 2.1645 | G89: Crawl automatique | H89: =IFERROR(INDEX(GMP!$Q$6:$Q$46,MATCH(C89,GMP!$B$6:$B$46,0)),"") -> Oui | I89: =IFERROR(INDEX(GMP!$R$6:$R$46,MATCH(C89,GMP!$B$6:$B$46,0)),"") -> 2 | J89: =IFERROR(INDEX(GMP!$S$6:$S$46,MATCH(C89,GMP!$B$6:$B$46,0)),"") -> projet tutorés
B90: GMP | C90: iut-le-mans | D90: Le Mans | E90: https://iut.univ-lemans.fr/fr/l-iut/departements/genie-mecanique-et-productique.html | F90: 2.1144 | G90: Crawl automatique | H90: =IFERROR(INDEX(GMP!$Q$6:$Q$46,MATCH(C90,GMP!$B$6:$B$46,0)),"") -> Oui | I90: =IFERROR(INDEX(GMP!$R$6:$R$46,MATCH(C90,GMP!$B$6:$B$46,0)),"") -> 2 | J90: =IFERROR(INDEX(GMP!$S$6:$S$46,MATCH(C90,GMP!$B$6:$B$46,0)),"") -> projet tutorés
B91: GMP | C91: iut-de-besan#U00e7on | D91: Besançon | E91: http://iut-bv.umlp.fr/pages/fr/departement-gmp-16234.html | F91: 2.0865 | G91: Crawl automatique | H91: =IFERROR(INDEX(GMP!$Q$6:$Q$46,MATCH(C91,GMP!$B$6:$B$46,0)),"") | I91: =IFERROR(INDEX(GMP!$R$6:$R$46,MATCH(C91,GMP!$B$6:$B$46,0)),"") | J91: =IFERROR(INDEX(GMP!$S$6:$S$46,MATCH(C91,GMP!$B$6:$B$46,0)),"")
B92: GMP | C92: iut-de-mulhouse | D92: Mulhouse | E92: https://www.iutmulhouse.uha.fr/diplomes/but-bachelor-universitaire-technologique/b-u-t-genie-mecanique-et-productiquegmp/ | F92: 1.6689 | G92: Crawl automatique | H92: =IFERROR(INDEX(GMP!$Q$6:$Q$46,MATCH(C92,GMP!$B$6:$B$46,0)),"") -> Oui | I92: =IFERROR(INDEX(GMP!$R$6:$R$46,MATCH(C92,GMP!$B$6:$B$46,0)),"") -> 2 | J92: =IFERROR(INDEX(GMP!$S$6:$S$46,MATCH(C92,GMP!$B$6:$B$46,0)),"") -> TP
B93: GMP | C93: iut-lyon1 | D93: Lyon | E93: https://iut.univ-lyon1.fr/iut/organisation-et-contacts/genie-mecanique-et-productique-gratte-ciel | F93: 1.6026 | G93: Crawl automatique | H93: =IFERROR(INDEX(GMP!$Q$6:$Q$46,MATCH(C93,GMP!$B$6:$B$46,0)),"") -> Oui | I93: =IFERROR(INDEX(GMP!$R$6:$R$46,MATCH(C93,GMP!$B$6:$B$46,0)),"") -> 2 | J93: =IFERROR(INDEX(GMP!$S$6:$S$46,MATCH(C93,GMP!$B$6:$B$46,0)),"") -> concours robotiques & projet tutorés
B94: GMP | C94: iut-de-cachan | D94: Cachan | E94: https://www.iut-cachan.universite-paris-saclay.fr/formations/departement-gmp | F94: 1.5674 | G94: Crawl automatique | H94: =IFERROR(INDEX(GMP!$Q$6:$Q$46,MATCH(C94,GMP!$B$6:$B$46,0)),"") -> Oui | I94: =IFERROR(INDEX(GMP!$R$6:$R$46,MATCH(C94,GMP!$B$6:$B$46,0)),"") -> 2 | J94: =IFERROR(INDEX(GMP!$S$6:$S$46,MATCH(C94,GMP!$B$6:$B$46,0)),"") -> concours robotiques & projet tutorés
B95: GMP | C95: iut-de-bourges | D95: Bourges | E95: https://www.univ-orleans.fr/fr/iut-bourges/formation/sciences-industrie/genie-mecanique-et-productique | F95: 1.5261 | G95: Crawl automatique | H95: =IFERROR(INDEX(GMP!$Q$6:$Q$46,MATCH(C95,GMP!$B$6:$B$46,0)),"") -> Oui | I95: =IFERROR(INDEX(GMP!$R$6:$R$46,MATCH(C95,GMP!$B$6:$B$46,0)),"") -> 1 | J95: =IFERROR(INDEX(GMP!$S$6:$S$46,MATCH(C95,GMP!$B$6:$B$46,0)),"") -> adaptation local : robotique (120 TP)
B96: GMP | C96: iut-de-mantes-en-yvelines | D96: Mantes-la-Jolie | E96: https://www.iut-mantes.uvsq.fr/gmp | F96: 0.9354 | G96: Crawl automatique | H96: =IFERROR(INDEX(GMP!$Q$6:$Q$46,MATCH(C96,GMP!$B$6:$B$46,0)),"") -> Non | I96: =IFERROR(INDEX(GMP!$R$6:$R$46,MATCH(C96,GMP!$B$6:$B$46,0)),"") -> 3 | J96: =IFERROR(INDEX(GMP!$S$6:$S$46,MATCH(C96,GMP!$B$6:$B$46,0)),"") -> Mention automatismes et informatique industrielle
B97: GMP | C97: iut-du-havre | D97: Le Havre | E97: https://www-iut.univ-lehavre.fr/gmp | F97: 0.9088 | G97: Crawl automatique | H97: =IFERROR(INDEX(GMP!$Q$6:$Q$46,MATCH(C97,GMP!$B$6:$B$46,0)),"") -> Oui | I97: =IFERROR(INDEX(GMP!$R$6:$R$46,MATCH(C97,GMP!$B$6:$B$46,0)),"") -> 2 | J97: =IFERROR(INDEX(GMP!$S$6:$S$46,MATCH(C97,GMP!$B$6:$B$46,0)),"") -> TP
B98: GMP | C98: iut-nantes | D98: Nantes | E98: https://www.but-genie-mecanique.fr/departement-gmp-nantes/ | F98: 0.9083 | G98: Crawl automatique | H98: =IFERROR(INDEX(GMP!$Q$6:$Q$46,MATCH(C98,GMP!$B$6:$B$46,0)),"") -> Oui | I98: =IFERROR(INDEX(GMP!$R$6:$R$46,MATCH(C98,GMP!$B$6:$B$46,0)),"") -> 2 | J98: =IFERROR(INDEX(GMP!$S$6:$S$46,MATCH(C98,GMP!$B$6:$B$46,0)),"") -> TP
B99: GMP | C99: iut-de-nimes | D99: Paris | E99: https://iut-nimes.edu.umontpellier.fr/formations/but/but-genie-mecanique-et-productique/ | F99: 0.7548 | G99: Crawl automatique | H99: =IFERROR(INDEX(GMP!$Q$6:$Q$46,MATCH(C99,GMP!$B$6:$B$46,0)),"") -> Oui | I99: =IFERROR(INDEX(GMP!$R$6:$R$46,MATCH(C99,GMP!$B$6:$B$46,0)),"") -> 2 | J99: =IFERROR(INDEX(GMP!$S$6:$S$46,MATCH(C99,GMP!$B$6:$B$46,0)),"") -> TP
... B128: GMP | C128: iut-poitiers | D128: Poitiers | E128: https://iutp.univ-poitiers.fr/gmp/ | F128: 0 | G128: Crawl automatique | H128: =IFERROR(INDEX(GMP!$Q$6:$Q$46,MATCH(C128,GMP!$B$6:$B$46,0)),"") -> Non | I128: =IFERROR(INDEX(GMP!$R$6:$R$46,MATCH(C128,GMP!$B$6:$B$46,0)),"") -> 4 | J128: =IFERROR(INDEX(GMP!$S$6:$S$46,MATCH(C128,GMP!$B$6:$B$46,0)),"") -> TP
B129: QLIO | C129: iut-de-haguenau | D129: Haguenau | E129: https://iuthaguenau.unistra.fr/formations/but/qlio/ | F129: 0.4097 | G129: Crawl automatique | H129: =IFERROR(INDEX(QLIO!$Q$6:$Q$26,MATCH(C129,QLIO!$B$6:$B$26,0)),"") -> Non | I129: =IFERROR(INDEX(QLIO!$R$6:$R$26,MATCH(C129,QLIO!$B$6:$B$26,0)),"") -> 4 | J129: =IFERROR(INDEX(QLIO!$S$6:$S$26,MATCH(C129,QLIO!$B$6:$B$26,0)),"") -> Pas de mention
B130: QLIO | C130: iut-lyon-2 | D130: Lyon | E130: https://iut.univ-lyon2.fr/formations/but/b-u-t-qualite-logistique-industrielle-et-organisation | F130: 0.2399 | G130: Crawl automatique | H130: =IFERROR(INDEX(QLIO!$Q$6:$Q$26,MATCH(C130,QLIO!$B$6:$B$26,0)),"") -> Oui | I130: =IFERROR(INDEX(QLIO!$R$6:$R$26,MATCH(C130,QLIO!$B$6:$B$26,0)),"") -> 2 | J130: =IFERROR(INDEX(QLIO!$S$6:$S$26,MATCH(C130,QLIO!$B$6:$B$26,0)),"") -> TP
B131: QLIO | C131: iut-cergy-pontoise | D131: Cergy-Pontoise | E131: https://cyiut.cyu.fr/formations/le-bachelor-universitaire-de-technologie/b-u-t-qualite-logistique-industrielle-et-organisation | F131: 0.2019 | G131: Crawl automatique | H131: =IFERROR(INDEX(QLIO!$Q$6:$Q$26,MATCH(C131,QLIO!$B$6:$B$26,0)),"") -> Non | I131: =IFERROR(INDEX(QLIO!$R$6:$R$26,MATCH(C131,QLIO!$B$6:$B$26,0)),"") -> 4 | J131: =IFERROR(INDEX(QLIO!$S$6:$S$26,MATCH(C131,QLIO!$B$6:$B$26,0)),"") -> Pas de mention
B132: QLIO | C132: iut-de-bourges | D132: Bourges | E132: https://www.univ-orleans.fr/fr/iut-bourges/formation/sciences-industrie/qualite-logistique-industrielle-et-organisation | F132: 0.1238 | G132: Crawl automatique | H132: =IFERROR(INDEX(QLIO!$Q$6:$Q$26,MATCH(C132,QLIO!$B$6:$B$26,0)),"") -> Non | I132: =IFERROR(INDEX(QLIO!$R$6:$R$26,MATCH(C132,QLIO!$B$6:$B$26,0)),"") -> 4 | J132: =IFERROR(INDEX(QLIO!$S$6:$S$26,MATCH(C132,QLIO!$B$6:$B$26,0)),"") -> Pas de mention
B133: QLIO | C133: iut-de-rodez | D133: Rodez | E133: https://www.iut-rodez.fr/fr/les-formations/but-qlio/but-qlio-presentation | F133: 0.0932 | G133: Crawl automatique | H133: =IFERROR(INDEX(QLIO!$Q$6:$Q$26,MATCH(C133,QLIO!$B$6:$B$26,0)),"") -> Non | I133: =IFERROR(INDEX(QLIO!$R$6:$R$26,MATCH(C133,QLIO!$B$6:$B$26,0)),"") -> 4 | J133: =IFERROR(INDEX(QLIO!$S$6:$S$26,MATCH(C133,QLIO!$B$6:$B$26,0)),"") -> Pas de mention
B134: QLIO | C134: iut-de-laisne | D134: Saint-Quentin, Aisne | E134: https://www.u-picardie.fr/formation/catalogue/but-qualite-logistique-industrielle-organisation-soissons | F134: 0.0841 | G134: Crawl automatique | H134: =IFERROR(INDEX(QLIO!$Q$6:$Q$26,MATCH(C134,QLIO!$B$6:$B$26,0)),"") -> Non | I134: =IFERROR(INDEX(QLIO!$R$6:$R$26,MATCH(C134,QLIO!$B$6:$B$26,0)),"") -> 4 | J134: =IFERROR(INDEX(QLIO!$S$6:$S$26,MATCH(C134,QLIO!$B$6:$B$26,0)),"") -> Pas de mention
B135: QLIO | C135: iut-de-nantes | D135: Nantes | E135: https://iutnantes.univ-nantes.fr/fr/formations/but-qlio | F135: 0.0672 | G135: Crawl automatique | H135: =IFERROR(INDEX(QLIO!$Q$6:$Q$26,MATCH(C135,QLIO!$B$6:$B$26,0)),"") -> Non | I135: =IFERROR(INDEX(QLIO!$R$6:$R$26,MATCH(C135,QLIO!$B$6:$B$26,0)),"") -> 4 | J135: =IFERROR(INDEX(QLIO!$S$6:$S$26,MATCH(C135,QLIO!$B$6:$B$26,0)),"") -> Pas de mention
B136: QLIO | C136: iut-de-lorient | D136: Lorient | E136: https://www-iutlorient.univ-ubs.fr/fr/formations/formations/bachelor-universitaire-de-technologie-b-u-t-CB/sciences-technologies-sante-STS/but-qualite-logistique-industrielle-et-organisation-qlio-2TQL00_213.html | F136: 0.0642 | G136: Crawl automatique | H136: =IFERROR(INDEX(QLIO!$Q$6:$Q$26,MATCH(C136,QLIO!$B$6:$B$26,0)),"") -> Non | I136: =IFERROR(INDEX(QLIO!$R$6:$R$26,MATCH(C136,QLIO!$B$6:$B$26,0)),"") -> 4 | J136: =IFERROR(INDEX(QLIO!$S$6:$S$26,MATCH(C136,QLIO!$B$6:$B$26,0)),"") -> Pas de mention
B137: QLIO | C137: iut-dangouleme | D137: Angoulême | E137: https://iut-angouleme.univ-poitiers.fr/formations/b-u-t-qlio-qualite-logistique-industrielle-et-organisation/ | F137: 0.0224 | G137: Crawl automatique | H137: =IFERROR(INDEX(QLIO!$Q$6:$Q$26,MATCH(C137,QLIO!$B$6:$B$26,0)),"") -> Non | I137: =IFERROR(INDEX(QLIO!$R$6:$R$26,MATCH(C137,QLIO!$B$6:$B$26,0)),"") -> 4 | J137: =IFERROR(INDEX(QLIO!$S$6:$S$26,MATCH(C137,QLIO!$B$6:$B$26,0)),"") -> Pas de mention
B138: QLIO | C138: iut-dagen | D138: Agen | E138: https://www.iut.u-bordeaux.fr/formations/qlio/ | F138: 0 | G138: Crawl automatique | H138: =IFERROR(INDEX(QLIO!$Q$6:$Q$26,MATCH(C138,QLIO!$B$6:$B$26,0)),"") -> Non | I138: =IFERROR(INDEX(QLIO!$R$6:$R$26,MATCH(C138,QLIO!$B$6:$B$26,0)),"") -> 4 | J138: =IFERROR(INDEX(QLIO!$S$6:$S$26,MATCH(C138,QLIO!$B$6:$B$26,0)),"") -> Pas de mention
B139: QLIO | C139: iut-de-bethune | D139: Béthune | E139: https://iut-bethune.univ-artois.fr/type-de-formation/qualite-logistique-industrielle-et-organisation/ | F139: 0 | G139: Crawl automatique | H139: =IFERROR(INDEX(QLIO!$Q$6:$Q$26,MATCH(C139,QLIO!$B$6:$B$26,0)),"") -> Non | I139: =IFERROR(INDEX(QLIO!$R$6:$R$26,MATCH(C139,QLIO!$B$6:$B$26,0)),"") -> 4 | J139: =IFERROR(INDEX(QLIO!$S$6:$S$26,MATCH(C139,QLIO!$B$6:$B$26,0)),"") -> Pas de mention
B140: QLIO | C140: iut-de-cambrai | D140: Cambrai | E140: https://formations.uphf.fr/fr/formations/bachelor-universitaire-de-technologie-but/but-qualite-logistique-industrielle-et-organisation-L06GQNLB.html | F140: 0 | G140: Crawl automatique | H140: =IFERROR(INDEX(QLIO!$Q$6:$Q$26,MATCH(C140,QLIO!$B$6:$B$26,0)),"") -> Non | I140: =IFERROR(INDEX(QLIO!$R$6:$R$26,MATCH(C140,QLIO!$B$6:$B$26,0)),"") -> 4 | J140: =IFERROR(INDEX(QLIO!$S$6:$S$26,MATCH(C140,QLIO!$B$6:$B$26,0)),"") -> Pas de mention
... B149: QLIO | C149: iut-annecy | D149: Annecy | E149: https://www.univ-smb.fr/iut-annecy/formation/qualite-logistique/ | F149: 0 | G149: Manuel (page web) | H149: =IFERROR(INDEX(QLIO!$Q$6:$Q$26,MATCH(C149,QLIO!$B$6:$B$26,0)),"") -> Non | I149: =IFERROR(INDEX(QLIO!$R$6:$R$26,MATCH(C149,QLIO!$B$6:$B$26,0)),"") -> 4 | J149: =IFERROR(INDEX(QLIO!$S$6:$S$26,MATCH(C149,QLIO!$B$6:$B$26,0)),"") -> Pas de mention
B152: Synthèse qualitative par BUT — GDR Robotique
B153: BUT GEII
B154: Le BUT GEII propose 3 spécialisations : Automatisme et Informatique Industrielle (AII), Électricité et Maîtrise de l'Énergie (EME) et Électronique et Systèmes Embarqués (ESE). La robotique est un pilier de l'enseignement principalement dans AII mais peut se retrouver en marge dans les deux autres spécialisations. Les départements ne proposant pas AII sont bien souvent ceux qui n'enseignent pas la robotique. Les concours et challenges organisés par les enseignants ou en collaboration avec des clubs de robotique sont très présents et servent de plateforme pédagogique.
B156: BUT GMP
B157: La présence de la robotique dans le BUT GMP est plus faible qu'en GEII. Majoritairement mise en avant à travers des TP exploitant des équipements présents dans les halls de production, la robotique dépend majoritairement de la possession d'un robot par le département plutôt que d'une volonté programmatique. Exceptions notables : l'IUT de Mantes en Yvelines propose une adaptation locale avec 120h de robotique, et quelques départements mettent en avant des participations à des concours de robotique.
B159: BUT GIM
B160: Le BUT GIM ne présente la robotique que de façon très marginale. Elle est introduite via des TP uniquement dans l'option Ingénierie des Systèmes Pluritechniques (ISP). Aucun concours de robotique ni club étudiant n'est mis en avant sur les pages de ces départements.
B162: BUT QLIO
B163: Le BUT QLIO ne présente la robotique que de façon très marginale, dans l'option Management de la Production (MP). Si dans les programmes nationaux, la robotique enseignée est résolument tournée vers la logistique (AGV/AMR/Drones), il n'en est jamais fait mention sur les sites internet des départements. Aucun concours de robotique ni club étudiant n'est mis en avant.

Sheet GEII
B2: Indicateurs crawl — GEII — GDR Robotique
B5: Etablissement | C5: URL | D5: Nb pages | E5: Pg robot | F5: Occ. Robot. | G5: Occ. Auto. | H5: Occ. IA | I5: Occ. Simu. | J5: Occ. Total | K5: Dens. Robot. | L5: Dens. Auto. | M5: Dens. IA | N5: Dens. Simu. | O5: Score global | P5: Source | Q5: Analyse qualitative | R5: Niveau (1-4) | S5: Commentaire
B6: iut-de-troyes | C6: https://sites.google.com/view/geiiiutdetroyes/la-formation | D6: 1 | E6: 1 | F6: 17 | G6: 6 | H6: 0 | I6: 0 | J6: 23 | K6: 18.5185 | L6: 6.5359 | M6: 0 | N6: 0 | O6: 10.3486 | P6: Crawl automatique | Q6: Oui | R6: 1 | S6: AII
B7: iut-daix-marseille | C7: https://iut.univ-amu.fr/fr/formations/bachelor-universitaire-de-technologie/but-genie-electrique-informatique-industrielle/but-geii-marseille | D7: 4 | E7: 3 | F7: 30 | G7: 19 | H7: 0 | I7: 0 | J7: 49 | K7: 13.8767 | L7: 3.7919 | M7: 0 | N7: 0 | O7: 7.5703 | P7: Crawl automatique | Q7: Oui | R7: 1 | S7: AII & Présence d'un club de robotique & concours robotiques
B8: iut-littoral | C8: https://www.iut-littoral.fr/department/but-geii-calais-genie-electrique-et-informatique-industrielle/ | D8: 1 | E8: 1 | F8: 7 | G8: 6 | H8: 0 | I8: 0 | J8: 13 | K8: 7.7008 | L8: 6.6007 | M8: 0 | N8: 0 | O8: 4.9505 | P8: Crawl automatique | Q8: Oui | R8: 1 | S8: AII
B9: iut-de-bordeaux | C9: https://www.iut.u-bordeaux.fr/geii/ | D9: 1 | E9: 1 | F9: 12 | G9: 7 | H9: 0 | I9: 0 | J9: 19 | K9: 8.0214 | L9: 4.6791 | M9: 0 | N9: 0 | O9: 4.7906 | P9: Crawl automatique | Q9: Oui | R9: 1 | S9: AII & DU robotique autonome & concours robotiques
B10: iut-de-lille | C10: https://www.iuta-geii.univ-lille.fr | D10: 1 | E10: 1 | F10: 12 | G10: 10 | H10: 0 | I10: 0 | J10: 22 | K10: 6.3627 | L10: 5.3022 | M10: 0 | N10: 0 | O10: 4.065 | P10: Crawl automatique | Q10: Oui | R10: 1 | S10: AII
B11: iut-de-rouen | C11: https://iutrouen.univ-rouen.fr/b-u-t-genie-electrique-et-informatique-industrielle-681743.kjsp | D11: 1 | E11: 1 | F11: 9 | G11: 7 | H11: 0 | I11: 0 | J11: 16 | K11: 5.9133 | L11: 4.5992 | M11: 0 | N11: 0 | O11: 3.7232 | P11: Crawl automatique | Q11: Oui | R11: 1 | S11: AII & concours robotiques
B12: iut-de-saint-etienne | C12: https://www.univ-st-etienne.fr/fr/formation/b-u-t-BU/b-u-t-BU/b-u-t-genie-electrique-et-informatique-industrielle-geii-2_12_03_0002_FR.html | D12: 2 | E12: 2 | F12: 6 | G12: 4 | H12: 0 | I12: 0 | J12: 10 | K12: 6.0282 | L12: 4.0188 | M12: 0 | N12: 0 | O12: 3.6839 | P12: Crawl automatique | Q12: Oui | R12: 1 | S12: AII
B13: iut-de-villetaneuse | C13: https://iutv.univ-paris13.fr/but-genie-electrique-et-informatique-industrielle/ | D13: 2 | E13: 2 | F13: 11 | G13: 7 | H13: 2 | I13: 1 | J13: 21 | K13: 5.43 | L13: 3.46 | M13: 0.99 | N13: 0.49 | O13: 3.54 | P13: Manuel (PDF + page web) | Q13: Oui | R13: 1 | S13: AII
B14: iut-aix-marseille | C14: https://iut.univ-amu.fr/fr/formations/bachelor-universitaire-de-technologie/but-genie-electrique-informatique-industrielle | D14: 1 | E14: 1 | F14: 1 | G14: 3 | H14: 0 | I14: 0 | J14: 4 | K14: 2.4876 | L14: 7.4627 | M14: 0 | N14: 0 | O14: 2.4876 | P14: Crawl automatique | Q14: Oui | R14: 1 | S14: AII
B15: iut-de-rennes | C15: https://iut-rennes.univ-rennes.fr/geii | D15: 6 | E15: 6 | F15: 32 | G15: 16 | H15: 0 | I15: 3 | J15: 51 | K15: 4.0702 | L15: 1.4421 | M15: 0 | N15: 0.271 | O15: 2.3206 | P15: Crawl automatique | Q15: Oui | R15: 1 | S15: AII
B16: iut-du-creusot | C16: https://iutlecreusot.ube.fr/but-genie-electrique-et-informatique-industrielle | D16: 6 | E16: 4 | F16: 29 | G16: 13 | H16: 2 | I16: 2 | J16: 46 | K16: 3.6879 | L16: 1.4598 | M16: 0.1797 | N16: 0.2379 | O16: 2.1569 | P16: Crawl automatique | Q16: Oui | R16: 1 | S16: AII & concours robotiques
B17: iut-de-velizy | C17: https://www.iut-velizy-rambouillet.uvsq.fr/geii-genie-electrique-et-informatique-industrielle | D17: 1 | E17: 1 | F17: 3 | G17: 2 | H17: 0 | I17: 0 | J17: 5 | K17: 3.5047 | L17: 2.3364 | M17: 0 | N17: 0 | O17: 2.1417 | P17: Crawl automatique | Q17: Oui | R17: 1 | S17: AII & concours robotiques
... B54: iut-nice-cote-dazur | C54: https://iut.univ-cotedazur.fr/departements-et-formations/genie-electrique-et-informatique-industriellehttps://iut.univ-cotedazur.fr/departements-et-formations/genie-electrique-et-informatique-industrielle/bachelor-universitaire-de-technologie | D54: 1 | E54: 0 | F54: 0 | G54: 0 | H54: 0 | I54: 0 | J54: 0 | K54: 0 | L54: 0 | M54: 0 | N54: 0 | O54: 0 | P54: Crawl automatique | Q54: Oui | R54: 1 | S54: AII

Sheet GMP
B2: Indicateurs crawl — GMP — GDR Robotique
B3: Généré le 11/05/2026 — 41 départements
B5: Etablissement | C5: URL | D5: Nb pages | E5: Pg robot | F5: Occ. Robot. | G5: Occ. Auto. | H5: Occ. IA | I5: Occ. Simu. | J5: Occ. Total | K5: Dens. Robot. | L5: Dens. Auto. | M5: Dens. IA | N5: Dens. Simu. | O5: Score global | P5: Source | Q5: Analyse qualitative | R5: Niveau (1-4) | S5: Commentaire
B6: iut-de-metz | C6: https://iut-metz.univ-lorraine.fr/departement-gmp | D6: 4 | E6: 3 | F6: 12 | G6: 4 | H6: 0 | I6: 11 | J6: 27 | K6: 6.7716 | L6: 1.9858 | M6: 0 | N6: 5.4032 | O6: 4.6173 | P6: Crawl automatique | Q6: Oui | R6: 2 | S6: TP
B7: iut-de-ville-davray | C7: https://cva-gmp.parisnanterre.fr/ | D7: 1 | E7: 1 | F7: 0 | G7: 1 | H7: 0 | I7: 2 | J7: 3 | K7: 0 | L7: 0.8881 | M7: 0 | N7: 1.7762 | O7: 0.444 | P7: Crawl automatique | Q7: Oui | R7: 2 | S7: projet tutorés
B8: iut-le-mans | C8: https://iut.univ-lemans.fr/fr/l-iut/departements/genie-mecanique-et-productique.html | D8: 1 | E8: 1 | F8: 5 | G8: 1 | H8: 0 | I8: 1 | J8: 7 | K8: 3.7313 | L8: 0.7463 | M8: 0 | N8: 0.7463 | O8: 2.1144 | P8: Crawl automatique | Q8: Oui | R8: 2 | S8: projet tutorés
B9: iut-de-besançons | C9: http://iut-bv.umlp.fr/pages/fr/departement-gmp-16234.html | D9: 2 | E9: 2 | F9: 2 | G9: 3 | H9: 0 | I9: 9 | J9: 14 | K9: 2.0043 | L9: 2.4213 | M9: 0 | N9: 4.9234 | O9: 2.2263 | P9: Crawl automatique | Q9: Oui | R9: 2 | S9: TP
B10: iut-de-mulhouse | C10: https://www.iutmulhouse.uha.fr/diplomes/but-bachelor-universitaire-technologique/b-u-t-genie-mecanique-et-productiquegmp/ | D10: 4 | E10: 3 | F10: 2 | G10: 4 | H10: 0 | I10: 4 | J10: 10 | K10: 0.7432 | L10: 3.8918 | M10: 0 | N10: 3.8918 | O10: 1.6689 | P10: Crawl automatique | Q10: Oui | R10: 2 | S10: TP
B11: iut-lyon1 | C11: https://iut.univ-lyon1.fr/iut/organisation-et-contacts/genie-mecanique-et-productique-gratte-ciel | D11: 1 | E11: 1 | F11: 3 | G11: 0 | H11: 0 | I11: 0 | J11: 3 | K11: 3.2051 | L11: 0 | M11: 0 | N11: 0 | O11: 1.6026 | P11: Crawl automatique | Q11: Oui | R11: 2 | S11: concours robotiques & projet tutorés
B12: iut-de-cachan | C12: https://www.iut-cachan.universite-paris-saclay.fr/formations/departement-gmp | D12: 4 | E12: 4 | F12: 9 | G12: 5 | H12: 0 | I12: 10 | J12: 24 | K12: 1.9828 | L12: 1.0549 | M12: 0 | N12: 2.4009 | O12: 1.5674 | P12: Crawl automatique | Q12: Oui | R12: 2 | S12: concours robotiques & projet tutorés
B13: iut-de-bourges | C13: https://www.univ-orleans.fr/fr/iut-bourges/formation/sciences-industrie/genie-mecanique-et-productique | D13: 4 | E13: 3 | F13: 10 | G13: 0 | H13: 0 | I13: 3 | J13: 13 | K13: 2.7469 | L13: 0 | M13: 0 | N13: 0.916 | O13: 1.5261 | P13: Crawl automatique | Q13: Oui | R13: 1 | S13: adaptation local : robotique (120 TP)
B14: iut-de-mantes-en-yvelines | C14: https://www.iut-mantes.uvsq.fr/gmp | D14: 1 | E14: 1 | F14: 0 | G14: 3 | H14: 0 | I14: 8 | J14: 11 | K14: 0 | L14: 1.5306 | M14: 0 | N14: 4.0816 | O14: 0.9354 | P14: Crawl automatique | Q14: Non | R14: 3 | S14: Mention automatismes et informatique industrielle
B15: iut-du-havre | C15: https://www-iut.univ-lehavre.fr/gmp | D15: 4 | E15: 4 | F15: 1 | G15: 0 | H15: 0 | I15: 15 | J15: 16 | K15: 0.2569 | L15: 0 | M15: 0 | N15: 4.6822 | O15: 0.9088 | P15: Crawl automatique | Q15: Oui | R15: 2 | S15: TP
B16: iut-nantes | C16: https://iutnantes.univ-nantes.fr/fr/presentation/departement-genie-mecanique-et-productique | D16: 2 | E16: 1 | F16: 1 | G16: 1 | H16: 0 | I16: 1 | J16: 3 | K16: 0.6878 | L16: 0.6878 | M16: 0 | N16: 0.6878 | O16: 0.5731 | P16: Crawl automatique | Q16: Oui | R16: 2 | S16: TP
B17: iut-de-nimes | C17: https://iut-nimes.edu.umontpellier.fr/formations/but/but-genie-mecanique-et-productique/ | D17: 5 | E17: 3 | F17: 7 | G17: 3 | H17: 0 | I17: 1 | J17: 11 | K17: 1.2758 | L17: 0.5742 | M17: 0 | N17: 0.1273 | O17: 0.7548 | P17: Crawl automatique | Q17: Oui | R17: 2 | S17: TP
... B46: iut-poitiers | C46: https://iutp.univ-poitiers.fr/gmp/ | D46: 1 | E46: 0 | F46: 0 | G46: 0 | H46: 0 | I46: 0 | J46: 0 | K46: 0 | L46: 0 | M46: 0 | N46: 0 | O46: 0 | P46: Crawl automatique | Q46: Non | R46: 4 | S46: TP

Sheet GIM
B2: Indicateurs crawl — GIM — GDR Robotique
B3: Généré le 11/05/2026 — 23 départements
B5: Etablissement | C5: URL | D5: Nb pages | E5: Pg robot | F5: Occ. Robot. | G5: Occ. Auto. | H5: Occ. IA | I5: Occ. Simu. | J5: Occ. Total | K5: Dens. Robot. | L5: Dens. Auto. | M5: Dens. IA | N5: Dens. Simu. | O5: Score global | P5: Source | Q5: Analyse qualitative | R5: Niveau (1-4) | S5: Commentaire
B6: iut-de-bayonne | C6: https://butgimanglet.wordpress.com | D6: 1 | E6: 1 | F6: 1 | G6: 0 | H6: 0 | I6: 0 | J6: 1 | K6: 3.5336 | L6: 0 | M6: 0 | N6: 0 | O6: 1.7668 | P6: Crawl automatique | Q6: Oui | R6: 2 | S6: ISP (TP)
B7: iut-de-chalons | C7: https://www.univ-reims.fr/formation/catalogue-de-formation/bachelor-universitaire-de-technologie-genie-industriel-et-maintenance,23515,38949.html?args=R9qFsCnMmKDtxCa17YTDkHVqaqbfYRXwwTnCVt2witCDUIiVoUdkeMDp%2AXGEGm2SMIhvMbuZ3_kOrRxvJlk6dOorIryuNioRCyFFyPAvhl9tCdwYdtHRrwAvNC1tDg_H&formation_id=1946 | D7: 3 | E7: 1 | F7: 1 | G7: 8 | H7: 0 | I7: 1 | J7: 10 | K7: 0.66 | L7: 5.28 | M7: 0 | N7: 0.66 | O7: 1.32 | P7: Manuel (page web + PDF + programme) | Q7: Non | R7: 4 | S7: Pas de mention
B8: iut-clermont-auvergne | C8: https://iut.uca.fr/formations/but-genie-industriel-et-maintenance | D8: 1 | E8: 1 | F8: 8 | G8: 5 | H8: 0 | I8: 0 | J8: 13 | K8: 1.9985 | L8: 1.2491 | M8: 0 | N8: 0 | O8: 1.2074 | P8: Crawl automatique | Q8: Oui | R8: 2 | S8: ISP (TP)
B9: iut-de-chartres | C9: https://www.univ-orleans.fr/fr/iut-chartres/formation/genie-industriel-et-maintenance | D9: 3 | E9: 2 | F9: 2 | G9: 20 | H9: 0 | I9: 5 | J9: 27 | K9: 1.3228 | L9: 0.9834 | M9: 0 | N9: 0.0847 | O9: 0.8394 | P9: Crawl automatique | Q9: Oui | R9: 1 | S9: ISP (TP)
B10: iut-de-lorient-pontivy | C10: https://www-iutlorient.univ-ubs.fr/fr/formations/formations/bachelor-universitaire-de-technologie-b-u-t-CB/sciences-technologies-sante-STS/but-genie-industriel-et-maintenance-gim-2TGI00_213.html | D10: 1 | E10: 1 | F10: 0 | G10: 10 | H10: 0 | I10: 0 | J10: 10 | K10: 0 | L10: 3.7836 | M10: 0 | N10: 0 | O10: 0.6306 | P10: Crawl automatique | Q10: Non | R10: 4 | S10: Pas de mention
B11: iut-de-roanne | C11: https://iut-roanne.univ-st-etienne.fr/fr/formations/b-u-t-BU/b-u-t-BU/but-genie-industriel-et-maintenance-gim-2_13_03_0001_FR.html | D11: 2 | E11: 2 | F11: 2 | G11: 2 | H11: 0 | I11: 0 | J11: 4 | K11: 0.9086 | L11: 0.9086 | M11: 0 | N11: 0 | O11: 0.6057 | P11: Crawl automatique | Q11: Oui | R11: 2 | S11: ISP (TP)
B12: iut-de-mantes-en-yvelines | C12: https://www.iut-mantes.uvsq.fr/gim | D12: 1 | E12: 1 | F12: 2 | G12: 1 | H12: 0 | I12: 0 | J12: 3 | K12: 0.8905 | L12: 0.4452 | M12: 0 | N12: 0 | O12: 0.5194 | P12: Crawl automatique | Q12: Oui | R12: 2 | S12: ISP (TP)
B13: iut-du-littoral-de-longuenesse | C13: https://www.univ-littoral.fr/formation/offre-de-formation/but/but-genie-industriel-maintenance/ | D13: 3 | E13: 2 | F13: 0 | G13: 16 | H13: 0 | I13: 0 | J13: 16 | K13: 0 | L13: 2.9751 | M13: 0 | N13: 0 | O13: 0.4958 | P13: Crawl automatique | Q13: Non | R13: 4 | S13: Pas de mention
B14: iut-grand-ouest-normandie | C14: https://uniform.unicaen.fr/catalogue/formation/but/6771-bachelor-universitaire-de-technologie-genie-industriel-et-maintenance?s=IUT&e=FI | D14: 1 | E14: 1 | F14: 0 | G14: 18 | H14: 0 | I14: 0 | J14: 18 | K14: 0 | L14: 2.1588 | M14: 0 | N14: 0 | O14: 0.3598 | P14: Crawl automatique | Q14: Non | R14: 4 | S14: Pas de mention
B15: iut-de-tremblay-en-france | C15: https://www.iutt.univ-paris8.fr/le-but-genie-industriel-et-maintenance | D15: 2 | E15: 1 | F15: 0 | G15: 6 | H15: 0 | I15: 0 | J15: 6 | K15: 0 | L15: 1.7513 | M15: 0 | N15: 0 | O15: 0.2919 | P15: Crawl automatique | Q15: Non | R15: 4 | S15: Pas de mention
B16: iut-epinal | C16: https://iut-epinal.univ-lorraine.fr/but-genie-industriel-et-maintenance-gim/ | D16: 3 | E16: 3 | F16: 0 | G16: 3 | H16: 0 | I16: 0 | J16: 3 | K16: 0 | L16: 1.4103 | M16: 0 | N16: 0 | O16: 0.235 | P16: Crawl automatique | Q16: Non | R16: 4 | S16: Pas de mention
B17: iut-lyon-1 | C17: https://iut.univ-lyon1.fr/formation/but/but-genie-industriel-et-maintenance | D17: 2 | E17: 1 | F17: 0 | G17: 4 | H17: 0 | I17: 0 | J17: 4 | K17: 0 | L17: 1.1396 | M17: 0 | N17: 0 | O17: 0.1899 | P17: Crawl automatique | Q17: Non | R17: 4 | S17: Pas de mention
... B28: iut-louis-pasteur | C28: https://iut-alsace.iut.fr/bachelor-universitaire-de-technologie/genie-industriel-et-maintenance/ | D28: 1 | E28: 0 | F28: 0 | G28: 0 | H28: 0 | I28: 0 | J28: 0 | K28: 0 | L28: 0 | M28: 0 | N28: 0 | O28: 0 | P28: Crawl automatique | Q28: Non | R28: 4 | S28: Pas de mention

Sheet QLIO
B2: Indicateurs crawl — QLIO — GDR Robotique
B3: Généré le 11/05/2026 — 21 départements
B5: Etablissement | C5: URL | D5: Nb pages | E5: Pg robot | F5: Occ. Robot. | G5: Occ. Auto. | H5: Occ. IA | I5: Occ. Simu. | J5: Occ. Total | K5: Dens. Robot. | L5: Dens. Auto. | M5: Dens. IA | N5: Dens. Simu. | O5: Score global | P5: Source | Q5: Analyse qualitative | R5: Niveau (1-4) | S5: Commentaire
B6: iut-de-haguenau | C6: https://iuthaguenau.unistra.fr/formations/but/qlio/ | D6: 2 | E6: 2 | F6: 0 | G6: 0 | H6: 0 | I6: 2 | J6: 2 | K6: 0 | L6: 0 | M6: 0 | N6: 0.0029 | O6: 0.0048 | P6: Crawl automatique | Q6: Non | R6: 4 | S6: Pas de mention
B7: iut-lyon-2 | C7: https://iut.univ-lyon2.fr/formations/but/b-u-t-qualite-logistique-industrielle-et-organisation | D7: 1 | E7: 1 | F7: 1 | G7: 1 | H7: 0 | I7: 0 | J7: 2 | K7: 0.3598 | L7: 0.3598 | M7: 0 | N7: 0 | O7: 0.2399 | P7: Crawl automatique | Q7: Oui | R7: 2 | S7: TP
B8: iut-cergy-pontoise | C8: https://cyiut.cyu.fr/formations/le-bachelor-universitaire-de-technologie/b-u-t-qualite-logistique-industrielle-et-organisation | D8: 2 | E8: 2 | F8: 12 | G8: 4 | H8: 0 | I8: 80 | J8: 96 | K8: 0.3073 | L8: 0.0138 | M8: 0 | N8: 0.2758 | O8: 0.2019 | P8: Crawl automatique | Q8: Non | R8: 4 | S8: Pas de mention
B9: iut-de-bourges | C9: https://www.univ-orleans.fr/fr/iut-bourges/formation/sciences-industrie/qualite-logistique-industrielle-et-organisation | D9: 4 | E9: 1 | F9: 1 | G9: 1 | H9: 0 | I9: 0 | J9: 2 | K9: 0.1857 | L9: 0.1857 | M9: 0 | N9: 0 | O9: 0.1238 | P9: Crawl automatique | Q9: Non | R9: 4 | S9: Pas de mention
B10: iut-de-rodez | C10: https://www.iut-rodez.fr/fr/les-formations/but-qlio/but-qlio-presentation | D10: 3 | E10: 2 | F10: 1 | G10: 1 | H10: 0 | I10: 0 | J10: 2 | K10: 0.0993 | L10: 0.2616 | M10: 0 | N10: 0 | O10: 0.0932 | P10: Crawl automatique | Q10: Non | R10: 4 | S10: Pas de mention
B11: iut-de-laisne | C11: https://www.u-picardie.fr/formation/catalogue/but-qualite-logistique-industrielle-organisation-soissons | D11: 1 | E11: 1 | F11: 0 | G11: 0 | H11: 0 | I11: 1 | J11: 1 | K11: 0 | L11: 0 | M11: 0 | N11: 0.5045 | O11: 0.0841 | P11: Crawl automatique | Q11: Non | R11: 4 | S11: Pas de mention
B12: iut-de-nantes | C12: https://iutnantes.univ-nantes.fr/fr/formations/but-qlio | D12: 2 | E12: 1 | F12: 11 | G12: 4 | H12: 0 | I12: 80 | J12: 95 | K12: 0.0379 | L12: 0.0138 | M12: 0 | N12: 0.2758 | O12: 0.0672 | P12: Crawl automatique | Q12: Non | R12: 4 | S12: Pas de mention
B13: iut-de-lorient | C13: https://www-iutlorient.univ-ubs.fr/fr/formations/formations/bachelor-universitaire-de-technologie-b-u-t-CB/sciences-technologies-sante-STS/but-qualite-logistique-industrielle-et-organisation-qlio-2TQL00_213.html | D13: 1 | E13: 1 | F13: 0 | G13: 0 | H13: 0 | I13: 1 | J13: 1 | K13: 0 | L13: 0 | M13: 0 | N13: 0.3854 | O13: 0.0642 | P13: Crawl automatique | Q13: Non | R13: 4 | S13: Pas de mention
B14: iut-dangouleme | C14: https://iut-angouleme.univ-poitiers.fr/formations/b-u-t-qlio-qualite-logistique-industrielle-et-organisation/ | D14: 6 | E14: 1 | F14: 11 | G14: 4 | H14: 0 | I14: 80 | J14: 95 | K14: 0.0126 | L14: 0.0046 | M14: 0 | N14: 0.0919 | O14: 0.0224 | P14: Crawl automatique | Q14: Non | R14: 4 | S14: Pas de mention
B15: iut-dagen | C15: https://www.iut.u-bordeaux.fr/formations/qlio/ | D15: 1 | E15: 0 | F15: 0 | G15: 0 | H15: 0 | I15: 0 | J15: 0 | K15: 0 | L15: 0 | M15: 0 | N15: 0 | O15: 0 | P15: Crawl automatique | Q15: Non | R15: 4 | S15: Pas de mention
B16: iut-de-bethune | C16: https://iut-bethune.univ-artois.fr/type-de-formation/qualite-logistique-industrielle-et-organisation/ | D16: 3 | E16: 0 | F16: 0 | G16: 0 | H16: 0 | I16: 0 | J16: 0 | K16: 0 | L16: 0 | M16: 0 | N16: 0 | O16: 0 | P16: Crawl automatique | Q16: Non | R16: 4 | S16: Pas de mention
B17: iut-de-cambrai | C17: https://formations.uphf.fr/fr/formations/bachelor-universitaire-de-technologie-but/but-qualite-logistique-industrielle-et-organisation-L06GQNLB.html | D17: 6 | E17: 0 | F17: 0 | G17: 0 | H17: 0 | I17: 0 | J17: 0 | K17: 0 | L17: 0 | M17: 0 | N17: 0 | O17: 0 | P17: Crawl automatique | Q17: Non | R17: 4 | S17: Pas de mention
... B25: iut-nice-cote-dazur | C25: https://iut.univ-cotedazur.fr/departements-et-formations/qualite-logistique-industrielle-et-organisation | D25: 1 | E25: 0 | F25: 0 | G25: 0 | H25: 0 | I25: 0 | J25: 0 | K25: 0 | L25: 0 | M25: 0 | N25: 0 | O25: 0 | P25: Crawl automatique | Q25: Non | R25: 4 | S25: Pas de mention
B26: iut-annecy | D26: 1 | E26: 0 | F26: 0 | G26: 0 | H26: 0 | I26: 0 | J26: 0 | K26: 0 | L26: 0 | M26: 0 | N26: 0 | O26: 0 | P26: Manuel (page web) | Q26: Non | R26: 4 | S26: Pas de mention

Sheet Graphique
B2: Cartographie robotique IUT/BUT — GDR Robotique
B3: Score crawler + Analyse qualitative — 12/05/2026
B5: Etablissement | C5: BUT | D5: Score crawler | E5: Niveau qualitatif | F5: Analyse
B6: iut-de-troyes | C6: GEII | D6: 10.3486 | E6: 1 | F6: Oui
B7: iut-daix-marseille | C7: GEII | D7: 7.5703 | E7: 1 | F7: Oui
B8: iut-littoral | C8: GEII | D8: 4.9505 | E8: 1 | F8: Oui
B9: iut-de-bordeaux | C9: GEII | D9: 4.7906 | E9: 1 | F9: Oui
B10: iut-de-lindre | C10: GEII | D10: 4.7738 | E10: 1 | F10: Oui
B11: iut-de-nimes | C11: GEII | D11: 4.3215 | E11: 1 | F11: Oui
B12: iut-de-lille | C12: GEII | D12: 4.065 | E12: 1 | F12: Oui
B13: iut-de-rouen | C13: GEII | D13: 3.7232 | E13: 1 | F13: Oui
B14: iut-de-saint-etienne | C14: GEII | D14: 3.6839 | E14: 1 | F14: Oui
B15: iut-de-villetaneuse | C15: GEII | D15: 3.54 | E15: 1 | F15: Oui
B16: iut-aix-marseille | C16: GEII | D16: 2.4876 | E16: 1 | F16: Oui
B17: iut-de-rennes | C17: GEII | D17: 2.3206 | E17: 1 | F17: Oui
... B139: iut-annecy | C139: QLIO | D139: 0 | E139: 4 | F139: Non
B142: BUT | C142: Niveau 1 | D142: Niveau 2 | E142: Niveau 3 | F142: Niveau 4
B143: GEII | C143: 44 | D143: 5 | E143: 0 | F143: 0
B144: GMP | C144: 1 | D144: 18 | E144: 5 | F144: 17
B145: GIM | C145: 1 | D145: 4 | E145: 0 | F145: 18
B146: QLIO | C146: 0 | D146: 2 | E146: 0 | F146: 19

Sheet Score Global Spécialité
A3: BUT | B3: Somme de Score global
A4: GEII | B4: 88.8523
A5: GIM | B5: 9.0566
A6: GMP | B6: 27.6363
A7: QLIO | B7: 1.3064

Sheet Score Global Localisation
A3: Localisation | B3: BUT | C3: Somme de Score global
A4: Troyes | C4: 10.3486
A5: Marseille | C5: 10.469
A6: Calais | C6: 4.9505
A7: Bordeaux | C7: 4.8845
A8: Lille | C8: 4.4739
A9: Rouen | C9: 3.7232
A10: Saint-Étienne | C10: 4.0469
A11: Villetaneuse | C11: 3.54
A12: Rennes | C12: 2.976
A13: Le Creusot | C13: 2.6058
A14: Vélizy-Villacoublay | C14: 2.1417
A15: Grenoble | C15: 2.1157
... A82: Alençon | C82: 0
